BEGIN:VCALENDAR
VERSION:2.0
PRODID:-//Dr. Targ - ECPv6.1.3//NONSGML v1.0//EN
CALSCALE:GREGORIAN
METHOD:PUBLISH
X-ORIGINAL-URL:https://drtarg.com
X-WR-CALDESC:Events for Dr. Targ
REFRESH-INTERVAL;VALUE=DURATION:PT1H
X-Robots-Tag:noindex
X-PUBLISHED-TTL:PT1H
BEGIN:VTIMEZONE
TZID:America/Los_Angeles
BEGIN:DAYLIGHT
TZOFFSETFROM:-0800
TZOFFSETTO:-0700
TZNAME:PDT
DTSTART:20270314T100000
END:DAYLIGHT
BEGIN:STANDARD
TZOFFSETFROM:-0700
TZOFFSETTO:-0800
TZNAME:PST
DTSTART:20271107T090000
END:STANDARD
END:VTIMEZONE
BEGIN:VEVENT
DTSTART;TZID=America/Los_Angeles:20270101T080000
DTEND;TZID=America/Los_Angeles:20270101T170000
DTSTAMP:20260421T185936
CREATED:20250806T204413Z
LAST-MODIFIED:20250806T204413Z
UID:10001244-1798790400-1798822800@drtarg.com
SUMMARY:Holiday New Year's Day (Office Closed)
DESCRIPTION:
URL:https://drtarg.com/calendar/holiday-new-years-day-office-closed/
ATTACH;FMTTYPE=image/gif:https://drtarg.com/wp-content/uploads/2021/11/holiday.gif
END:VEVENT
END:VCALENDAR