BEGIN:VCALENDAR
VERSION:2.0
PRODID:-//Dr. Targ - ECPv6.1.3//NONSGML v1.0//EN
CALSCALE:GREGORIAN
METHOD:PUBLISH
X-WR-CALNAME:Dr. Targ
X-ORIGINAL-URL:https://drtarg.com
X-WR-CALDESC:Events for Dr. Targ
REFRESH-INTERVAL;VALUE=DURATION:PT1H
X-Robots-Tag:noindex
X-PUBLISHED-TTL:PT1H
BEGIN:VTIMEZONE
TZID:America/Los_Angeles
BEGIN:DAYLIGHT
TZOFFSETFROM:-0800
TZOFFSETTO:-0700
TZNAME:PDT
DTSTART:20260308T100000
END:DAYLIGHT
BEGIN:STANDARD
TZOFFSETFROM:-0700
TZOFFSETTO:-0800
TZNAME:PST
DTSTART:20261101T090000
END:STANDARD
END:VTIMEZONE
BEGIN:VEVENT
DTSTART;TZID=America/Los_Angeles:20260129T090000
DTEND;TZID=America/Los_Angeles:20260129T110000
DTSTAMP:20260421T092524
CREATED:20251025T192907Z
LAST-MODIFIED:20251025T192907Z
UID:10001408-1769677200-1769684400@drtarg.com
SUMMARY:Sedation (San Mateo)
DESCRIPTION:
URL:https://drtarg.com/calendar/sedation-san-mateo-3/
ATTACH;FMTTYPE=image/jpeg:https://drtarg.com/wp-content/uploads/2021/11/Logo_Chiang.jpg
END:VEVENT
BEGIN:VEVENT
DTSTART;TZID=America/Los_Angeles:20260129T123000
DTEND;TZID=America/Los_Angeles:20260129T173000
DTSTAMP:20260421T092524
CREATED:20250919T205255Z
LAST-MODIFIED:20260108T212821Z
UID:10001380-1769689800-1769707800@drtarg.com
SUMMARY:Sedation
DESCRIPTION:
URL:https://drtarg.com/calendar/available-429/
ATTACH;FMTTYPE=image/jpeg:https://drtarg.com/wp-content/uploads/2021/11/Griffith_.jpg
END:VEVENT
BEGIN:VEVENT
DTSTART;TZID=America/Los_Angeles:20260130T080000
DTEND;TZID=America/Los_Angeles:20260130T110000
DTSTAMP:20260421T092524
CREATED:20260128T035230Z
LAST-MODIFIED:20260128T035230Z
UID:10001645-1769760000-1769770800@drtarg.com
SUMMARY:Sedation
DESCRIPTION:
URL:https://drtarg.com/calendar/sedation-580/
ATTACH;FMTTYPE=image/jpeg:https://drtarg.com/wp-content/uploads/2025/04/Logo-Shah-Mission-Bay.jpg
END:VEVENT
BEGIN:VEVENT
DTSTART;TZID=America/Los_Angeles:20260130T120000
DTEND;TZID=America/Los_Angeles:20260130T173000
DTSTAMP:20260421T092524
CREATED:20250913T215531Z
LAST-MODIFIED:20260128T035113Z
UID:10001348-1769774400-1769794200@drtarg.com
SUMMARY:Available
DESCRIPTION:
URL:https://drtarg.com/calendar/sedation-sc-bp/
ATTACH;FMTTYPE=image/gif:https://drtarg.com/wp-content/uploads/2021/11/happy_face2.gif
END:VEVENT
END:VCALENDAR