BEGIN:VCALENDAR
VERSION:2.0
PRODID:-//Dr. Targ - ECPv6.1.3//NONSGML v1.0//EN
CALSCALE:GREGORIAN
METHOD:PUBLISH
X-WR-CALNAME:Dr. Targ
X-ORIGINAL-URL:https://drtarg.com
X-WR-CALDESC:Events for Dr. Targ
REFRESH-INTERVAL;VALUE=DURATION:PT1H
X-Robots-Tag:noindex
X-PUBLISHED-TTL:PT1H
BEGIN:VTIMEZONE
TZID:America/Los_Angeles
BEGIN:DAYLIGHT
TZOFFSETFROM:-0800
TZOFFSETTO:-0700
TZNAME:PDT
DTSTART:20260308T100000
END:DAYLIGHT
BEGIN:STANDARD
TZOFFSETFROM:-0700
TZOFFSETTO:-0800
TZNAME:PST
DTSTART:20261101T090000
END:STANDARD
END:VTIMEZONE
BEGIN:VEVENT
DTSTART;TZID=America/Los_Angeles:20261202T080000
DTEND;TZID=America/Los_Angeles:20261202T130000
DTSTAMP:20260421T185823
CREATED:20251104T045107Z
LAST-MODIFIED:20251104T045107Z
UID:10001430-1796198400-1796216400@drtarg.com
SUMMARY:Sedation
DESCRIPTION:
URL:https://drtarg.com/calendar/sedation-515/
ATTACH;FMTTYPE=image/jpeg:https://drtarg.com/wp-content/uploads/2021/11/Logo_Fazilat.jpg
END:VEVENT
BEGIN:VEVENT
DTSTART;TZID=America/Los_Angeles:20261202T143000
DTEND;TZID=America/Los_Angeles:20261202T173000
DTSTAMP:20260421T185823
CREATED:20251104T045155Z
LAST-MODIFIED:20251104T045155Z
UID:10001431-1796221800-1796232600@drtarg.com
SUMMARY:Available
DESCRIPTION:
URL:https://drtarg.com/calendar/available-443/
ATTACH;FMTTYPE=image/gif:https://drtarg.com/wp-content/uploads/2021/11/happy_face2.gif
END:VEVENT
END:VCALENDAR