BEGIN:VCALENDAR
VERSION:2.0
PRODID:-//Dr. Targ - ECPv6.1.3//NONSGML v1.0//EN
CALSCALE:GREGORIAN
METHOD:PUBLISH
X-WR-CALNAME:Dr. Targ
X-ORIGINAL-URL:https://drtarg.com
X-WR-CALDESC:Events for Dr. Targ
REFRESH-INTERVAL;VALUE=DURATION:PT1H
X-Robots-Tag:noindex
X-PUBLISHED-TTL:PT1H
BEGIN:VTIMEZONE
TZID:America/Los_Angeles
BEGIN:DAYLIGHT
TZOFFSETFROM:-0800
TZOFFSETTO:-0700
TZNAME:PDT
DTSTART:20260308T100000
END:DAYLIGHT
BEGIN:STANDARD
TZOFFSETFROM:-0700
TZOFFSETTO:-0800
TZNAME:PST
DTSTART:20261101T090000
END:STANDARD
END:VTIMEZONE
BEGIN:VEVENT
DTSTART;TZID=America/Los_Angeles:20260723T083000
DTEND;TZID=America/Los_Angeles:20260723T123000
DTSTAMP:20260421T123731
CREATED:20260328T001914Z
LAST-MODIFIED:20260328T001914Z
UID:10001686-1784795400-1784809800@drtarg.com
SUMMARY:Sedation
DESCRIPTION:
URL:https://drtarg.com/calendar/sedation-600/
ATTACH;FMTTYPE=image/jpeg:https://drtarg.com/wp-content/uploads/2021/11/Porter.jpg
END:VEVENT
BEGIN:VEVENT
DTSTART;TZID=America/Los_Angeles:20260723T140000
DTEND;TZID=America/Los_Angeles:20260723T173000
DTSTAMP:20260421T123731
CREATED:20260416T015413Z
LAST-MODIFIED:20260416T015413Z
UID:10001700-1784815200-1784827800@drtarg.com
SUMMARY:Holiday (Office Closed)
DESCRIPTION:
URL:https://drtarg.com/calendar/holiday-office-closed-83/
ATTACH;FMTTYPE=image/gif:https://drtarg.com/wp-content/uploads/2021/11/holiday.gif
END:VEVENT
END:VCALENDAR