BEGIN:VCALENDAR
VERSION:2.0
PRODID:-//Dr. Targ - ECPv6.1.3//NONSGML v1.0//EN
CALSCALE:GREGORIAN
METHOD:PUBLISH
X-ORIGINAL-URL:https://drtarg.com
X-WR-CALDESC:Events for Dr. Targ
REFRESH-INTERVAL;VALUE=DURATION:PT1H
X-Robots-Tag:noindex
X-PUBLISHED-TTL:PT1H
BEGIN:VTIMEZONE
TZID:America/Los_Angeles
BEGIN:DAYLIGHT
TZOFFSETFROM:-0800
TZOFFSETTO:-0700
TZNAME:PDT
DTSTART:20260308T100000
END:DAYLIGHT
BEGIN:STANDARD
TZOFFSETFROM:-0700
TZOFFSETTO:-0800
TZNAME:PST
DTSTART:20261101T090000
END:STANDARD
END:VTIMEZONE
BEGIN:VEVENT
DTSTART;TZID=America/Los_Angeles:20260702T083000
DTEND;TZID=America/Los_Angeles:20260702T103000
DTSTAMP:20260421T092850
CREATED:20260302T004009Z
LAST-MODIFIED:20260302T004009Z
UID:10001662-1782981000-1782988200@drtarg.com
SUMMARY:Sedation (Saratoga)
DESCRIPTION:
URL:https://drtarg.com/calendar/sedation-saratoga-2/
ATTACH;FMTTYPE=image/gif:https://drtarg.com/wp-content/uploads/2021/11/sunset.gif
END:VEVENT
BEGIN:VEVENT
DTSTART;TZID=America/Los_Angeles:20260702T113000
DTEND;TZID=America/Los_Angeles:20260702T173000
DTSTAMP:20260421T092850
CREATED:20260123T163513Z
LAST-MODIFIED:20260302T003839Z
UID:10001588-1782991800-1783013400@drtarg.com
SUMMARY:Available
DESCRIPTION:
URL:https://drtarg.com/calendar/available-522/
ATTACH;FMTTYPE=image/gif:https://drtarg.com/wp-content/uploads/2021/11/happy_face2.gif
END:VEVENT
END:VCALENDAR