BEGIN:VCALENDAR
VERSION:2.0
PRODID:-//Dr. Targ - ECPv6.1.3//NONSGML v1.0//EN
CALSCALE:GREGORIAN
METHOD:PUBLISH
X-ORIGINAL-URL:https://drtarg.com
X-WR-CALDESC:Events for Dr. Targ
REFRESH-INTERVAL;VALUE=DURATION:PT1H
X-Robots-Tag:noindex
X-PUBLISHED-TTL:PT1H
BEGIN:VTIMEZONE
TZID:America/Los_Angeles
BEGIN:DAYLIGHT
TZOFFSETFROM:-0800
TZOFFSETTO:-0700
TZNAME:PDT
DTSTART:20260308T100000
END:DAYLIGHT
BEGIN:STANDARD
TZOFFSETFROM:-0700
TZOFFSETTO:-0800
TZNAME:PST
DTSTART:20261101T090000
END:STANDARD
END:VTIMEZONE
BEGIN:VEVENT
DTSTART;TZID=America/Los_Angeles:20260611T080000
DTEND;TZID=America/Los_Angeles:20260611T123000
DTSTAMP:20260421T092805
CREATED:20251116T051417Z
LAST-MODIFIED:20251116T051417Z
UID:10001450-1781164800-1781181000@drtarg.com
SUMMARY:Sedation
DESCRIPTION:
URL:https://drtarg.com/calendar/sedation-529/
ATTACH;FMTTYPE=image/jpeg:https://drtarg.com/wp-content/uploads/2021/11/Logo_Lee_Grace.jpg
END:VEVENT
BEGIN:VEVENT
DTSTART;TZID=America/Los_Angeles:20260611T133000
DTEND;TZID=America/Los_Angeles:20260611T150000
DTSTAMP:20260421T092805
CREATED:20251116T051502Z
LAST-MODIFIED:20260302T060732Z
UID:10001451-1781184600-1781190000@drtarg.com
SUMMARY:Sedation (Morgan Hill)
DESCRIPTION:
URL:https://drtarg.com/calendar/available-449/
ATTACH;FMTTYPE=image/jpeg:https://drtarg.com/wp-content/uploads/2021/11/Logo_Tieu-1.jpg
END:VEVENT
END:VCALENDAR