BEGIN:VCALENDAR
VERSION:2.0
PRODID:-//Dr. Targ - ECPv6.1.3//NONSGML v1.0//EN
CALSCALE:GREGORIAN
METHOD:PUBLISH
X-WR-CALNAME:Dr. Targ
X-ORIGINAL-URL:https://drtarg.com
X-WR-CALDESC:Events for Dr. Targ
REFRESH-INTERVAL;VALUE=DURATION:PT1H
X-Robots-Tag:noindex
X-PUBLISHED-TTL:PT1H
BEGIN:VTIMEZONE
TZID:America/Los_Angeles
BEGIN:DAYLIGHT
TZOFFSETFROM:-0800
TZOFFSETTO:-0700
TZNAME:PDT
DTSTART:20260308T100000
END:DAYLIGHT
BEGIN:STANDARD
TZOFFSETFROM:-0700
TZOFFSETTO:-0800
TZNAME:PST
DTSTART:20261101T090000
END:STANDARD
END:VTIMEZONE
BEGIN:VEVENT
DTSTART;TZID=America/Los_Angeles:20260601T080000
DTEND;TZID=America/Los_Angeles:20260601T113000
DTSTAMP:20260421T074931
CREATED:20260408T214001Z
LAST-MODIFIED:20260417T231909Z
UID:10001698-1780300800-1780313400@drtarg.com
SUMMARY:Sedation (Sunnyvale)
DESCRIPTION:
URL:https://drtarg.com/calendar/sedation-milpitas-2/
ATTACH;FMTTYPE=image/jpeg:https://drtarg.com/wp-content/uploads/2022/07/Beech-Reid-Logo-e1658862572163.jpg
END:VEVENT
BEGIN:VEVENT
DTSTART;TZID=America/Los_Angeles:20260601T120000
DTEND;TZID=America/Los_Angeles:20260601T173000
DTSTAMP:20260421T074931
CREATED:20251116T173241Z
LAST-MODIFIED:20260408T213920Z
UID:10001507-1780315200-1780335000@drtarg.com
SUMMARY:Available
DESCRIPTION:
URL:https://drtarg.com/calendar/available-499/
ATTACH;FMTTYPE=image/gif:https://drtarg.com/wp-content/uploads/2021/11/happy_face2.gif
END:VEVENT
END:VCALENDAR