BEGIN:VCALENDAR
VERSION:2.0
PRODID:-//Dr. Targ - ECPv6.1.3//NONSGML v1.0//EN
CALSCALE:GREGORIAN
METHOD:PUBLISH
X-ORIGINAL-URL:https://drtarg.com
X-WR-CALDESC:Events for Dr. Targ
REFRESH-INTERVAL;VALUE=DURATION:PT1H
X-Robots-Tag:noindex
X-PUBLISHED-TTL:PT1H
BEGIN:VTIMEZONE
TZID:America/Los_Angeles
BEGIN:DAYLIGHT
TZOFFSETFROM:-0800
TZOFFSETTO:-0700
TZNAME:PDT
DTSTART:20260308T100000
END:DAYLIGHT
BEGIN:STANDARD
TZOFFSETFROM:-0700
TZOFFSETTO:-0800
TZNAME:PST
DTSTART:20261101T090000
END:STANDARD
END:VTIMEZONE
BEGIN:VEVENT
DTSTART;TZID=America/Los_Angeles:20260521T080000
DTEND;TZID=America/Los_Angeles:20260521T090000
DTSTAMP:20260421T075701
CREATED:20260324T230814Z
LAST-MODIFIED:20260324T230814Z
UID:10001682-1779350400-1779354000@drtarg.com
SUMMARY:Sedation
DESCRIPTION:
URL:https://drtarg.com/calendar/sedation-598/
ATTACH;FMTTYPE=image/jpeg:https://drtarg.com/wp-content/uploads/2022/07/Beech-Reid-Logo-e1658862572163.jpg
END:VEVENT
BEGIN:VEVENT
DTSTART;TZID=America/Los_Angeles:20260521T110000
DTEND;TZID=America/Los_Angeles:20260521T130000
DTSTAMP:20260421T075701
CREATED:20260418T184547Z
LAST-MODIFIED:20260418T184547Z
UID:10001701-1779361200-1779368400@drtarg.com
SUMMARY:Sedation
DESCRIPTION:
URL:https://drtarg.com/calendar/sedation-611/
ATTACH;FMTTYPE=image/jpeg:https://drtarg.com/wp-content/uploads/2021/11/Logo_Jeworski.jpg
END:VEVENT
BEGIN:VEVENT
DTSTART;TZID=America/Los_Angeles:20260521T143000
DTEND;TZID=America/Los_Angeles:20260521T173000
DTSTAMP:20260421T075701
CREATED:20251116T173159Z
LAST-MODIFIED:20260418T184458Z
UID:10001506-1779373800-1779384600@drtarg.com
SUMMARY:Available
DESCRIPTION:
URL:https://drtarg.com/calendar/available-498/
ATTACH;FMTTYPE=image/gif:https://drtarg.com/wp-content/uploads/2021/11/happy_face2.gif
END:VEVENT
END:VCALENDAR