BEGIN:VCALENDAR
VERSION:2.0
PRODID:-//Dr. Targ - ECPv6.1.3//NONSGML v1.0//EN
CALSCALE:GREGORIAN
METHOD:PUBLISH
X-ORIGINAL-URL:https://drtarg.com
X-WR-CALDESC:Events for Dr. Targ
REFRESH-INTERVAL;VALUE=DURATION:PT1H
X-Robots-Tag:noindex
X-PUBLISHED-TTL:PT1H
BEGIN:VTIMEZONE
TZID:America/Los_Angeles
BEGIN:DAYLIGHT
TZOFFSETFROM:-0800
TZOFFSETTO:-0700
TZNAME:PDT
DTSTART:20260308T100000
END:DAYLIGHT
BEGIN:STANDARD
TZOFFSETFROM:-0700
TZOFFSETTO:-0800
TZNAME:PST
DTSTART:20261101T090000
END:STANDARD
END:VTIMEZONE
BEGIN:VEVENT
DTSTART;TZID=America/Los_Angeles:20260511T080000
DTEND;TZID=America/Los_Angeles:20260511T093000
DTSTAMP:20260421T075340
CREATED:20251116T172803Z
LAST-MODIFIED:20260401T204009Z
UID:10001500-1778486400-1778491800@drtarg.com
SUMMARY:Available
DESCRIPTION:
URL:https://drtarg.com/calendar/available-492/
ATTACH;FMTTYPE=image/gif:https://drtarg.com/wp-content/uploads/2021/11/happy_face2.gif
END:VEVENT
BEGIN:VEVENT
DTSTART;TZID=America/Los_Angeles:20260511T110000
DTEND;TZID=America/Los_Angeles:20260511T130000
DTSTAMP:20260421T075340
CREATED:20260401T203803Z
LAST-MODIFIED:20260401T204036Z
UID:10001695-1778497200-1778504400@drtarg.com
SUMMARY:Sedation
DESCRIPTION:
URL:https://drtarg.com/calendar/sedation-609/
ATTACH;FMTTYPE=image/jpeg:https://drtarg.com/wp-content/uploads/2023/08/logo-Pediatric-Dentistry-of-Palo-Alto.jpg
END:VEVENT
BEGIN:VEVENT
DTSTART;TZID=America/Los_Angeles:20260511T143000
DTEND;TZID=America/Los_Angeles:20260511T173000
DTSTAMP:20260421T075340
CREATED:20260401T204130Z
LAST-MODIFIED:20260401T204130Z
UID:10001696-1778509800-1778520600@drtarg.com
SUMMARY:Available
DESCRIPTION:
URL:https://drtarg.com/calendar/available-593/
ATTACH;FMTTYPE=image/gif:https://drtarg.com/wp-content/uploads/2021/11/happy_face2.gif
END:VEVENT
END:VCALENDAR