BEGIN:VCALENDAR
VERSION:2.0
PRODID:-//Dr. Targ - ECPv6.1.3//NONSGML v1.0//EN
CALSCALE:GREGORIAN
METHOD:PUBLISH
X-ORIGINAL-URL:https://drtarg.com
X-WR-CALDESC:Events for Dr. Targ
REFRESH-INTERVAL;VALUE=DURATION:PT1H
X-Robots-Tag:noindex
X-PUBLISHED-TTL:PT1H
BEGIN:VTIMEZONE
TZID:America/Los_Angeles
BEGIN:DAYLIGHT
TZOFFSETFROM:-0800
TZOFFSETTO:-0700
TZNAME:PDT
DTSTART:20260308T100000
END:DAYLIGHT
BEGIN:STANDARD
TZOFFSETFROM:-0700
TZOFFSETTO:-0800
TZNAME:PST
DTSTART:20261101T090000
END:STANDARD
END:VTIMEZONE
BEGIN:VEVENT
DTSTART;TZID=America/Los_Angeles:20260420T080000
DTEND;TZID=America/Los_Angeles:20260420T103000
DTSTAMP:20260421T060446
CREATED:20260302T051531Z
LAST-MODIFIED:20260419T231003Z
UID:10001667-1776672000-1776681000@drtarg.com
SUMMARY:Available
DESCRIPTION:
URL:https://drtarg.com/calendar/sedation-588/
ATTACH;FMTTYPE=image/gif:https://drtarg.com/wp-content/uploads/2021/11/happy_face2.gif
END:VEVENT
BEGIN:VEVENT
DTSTART;TZID=America/Los_Angeles:20260420T123000
DTEND;TZID=America/Los_Angeles:20260420T143000
DTSTAMP:20260421T060446
CREATED:20251116T172054Z
LAST-MODIFIED:20260419T230929Z
UID:10001489-1776688200-1776695400@drtarg.com
SUMMARY:Sedation (Redwood City)
DESCRIPTION:
URL:https://drtarg.com/calendar/available-481/
ATTACH;FMTTYPE=image/jpeg:https://drtarg.com/wp-content/uploads/2021/11/Logo_Chiang.jpg
END:VEVENT
BEGIN:VEVENT
DTSTART;TZID=America/Los_Angeles:20260420T160000
DTEND;TZID=America/Los_Angeles:20260420T173000
DTSTAMP:20260421T060446
CREATED:20260419T231057Z
LAST-MODIFIED:20260419T231211Z
UID:10001702-1776700800-1776706200@drtarg.com
SUMMARY:Sedation
DESCRIPTION:
URL:https://drtarg.com/calendar/sedation-612/
ATTACH;FMTTYPE=image/jpeg:https://drtarg.com/wp-content/uploads/2021/11/Logo_Wang-1.jpg
END:VEVENT
END:VCALENDAR